BEGIN:VCALENDAR
VERSION:2.0
PRODID:-//HyDEX - ECPv6.15.20//NONSGML v1.0//EN
CALSCALE:GREGORIAN
METHOD:PUBLISH
X-ORIGINAL-URL:https://hydex.ac.uk
X-WR-CALDESC:Events for HyDEX
REFRESH-INTERVAL;VALUE=DURATION:PT1H
X-Robots-Tag:noindex
X-PUBLISHED-TTL:PT1H
BEGIN:VTIMEZONE
TZID:Europe/London
BEGIN:DAYLIGHT
TZOFFSETFROM:+0000
TZOFFSETTO:+0100
TZNAME:BST
DTSTART:20210328T010000
END:DAYLIGHT
BEGIN:STANDARD
TZOFFSETFROM:+0100
TZOFFSETTO:+0000
TZNAME:GMT
DTSTART:20211031T010000
END:STANDARD
BEGIN:DAYLIGHT
TZOFFSETFROM:+0000
TZOFFSETTO:+0100
TZNAME:BST
DTSTART:20220327T010000
END:DAYLIGHT
BEGIN:STANDARD
TZOFFSETFROM:+0100
TZOFFSETTO:+0000
TZNAME:GMT
DTSTART:20221030T010000
END:STANDARD
BEGIN:DAYLIGHT
TZOFFSETFROM:+0000
TZOFFSETTO:+0100
TZNAME:BST
DTSTART:20230326T010000
END:DAYLIGHT
BEGIN:STANDARD
TZOFFSETFROM:+0100
TZOFFSETTO:+0000
TZNAME:GMT
DTSTART:20231029T010000
END:STANDARD
END:VTIMEZONE
BEGIN:VEVENT
DTSTART;TZID=Europe/London:20221214T080000
DTEND;TZID=Europe/London:20221214T170000
DTSTAMP:20260425T233131
CREATED:20221214T162312Z
LAST-MODIFIED:20221214T162337Z
UID:1311-1671004800-1671037200@hydex.ac.uk
SUMMARY:Protecting your ideas! - A Green Innovation Event
DESCRIPTION:At this event\, the UK’s Intellectual Property Office will explain how you can protect your ideas and technologies\, and will give details about the range free support that they can offer you.
URL:https://hydex.ac.uk/event/protecting-your-ideas-a-green-innovation-event/
LOCATION:University of Birmingham\, Birmingham University Campus\, Birmingham\, England\,\, Birmingham\, B15 2TT\, United Kingdom
ATTACH;FMTTYPE=image/png:https://hydex.ac.uk/wp-content/uploads/2022/12/ME.png
ORGANIZER;CN="ERA":MAILTO:https://www.era.ac.uk/
END:VEVENT
END:VCALENDAR