BEGIN:VCALENDAR
VERSION:2.0
PRODID:-//HyDEX - ECPv6.15.20//NONSGML v1.0//EN
CALSCALE:GREGORIAN
METHOD:PUBLISH
X-WR-CALNAME:HyDEX
X-ORIGINAL-URL:https://hydex.ac.uk
X-WR-CALDESC:Events for HyDEX
REFRESH-INTERVAL;VALUE=DURATION:PT1H
X-Robots-Tag:noindex
X-PUBLISHED-TTL:PT1H
BEGIN:VTIMEZONE
TZID:Europe/London
BEGIN:DAYLIGHT
TZOFFSETFROM:+0000
TZOFFSETTO:+0100
TZNAME:BST
DTSTART:20220327T010000
END:DAYLIGHT
BEGIN:STANDARD
TZOFFSETFROM:+0100
TZOFFSETTO:+0000
TZNAME:GMT
DTSTART:20221030T010000
END:STANDARD
BEGIN:DAYLIGHT
TZOFFSETFROM:+0000
TZOFFSETTO:+0100
TZNAME:BST
DTSTART:20230326T010000
END:DAYLIGHT
BEGIN:STANDARD
TZOFFSETFROM:+0100
TZOFFSETTO:+0000
TZNAME:GMT
DTSTART:20231029T010000
END:STANDARD
BEGIN:DAYLIGHT
TZOFFSETFROM:+0000
TZOFFSETTO:+0100
TZNAME:BST
DTSTART:20240331T010000
END:DAYLIGHT
BEGIN:STANDARD
TZOFFSETFROM:+0100
TZOFFSETTO:+0000
TZNAME:GMT
DTSTART:20241027T010000
END:STANDARD
END:VTIMEZONE
BEGIN:VEVENT
DTSTART;TZID=Europe/London:20230126T093000
DTEND;TZID=Europe/London:20230126T160000
DTSTAMP:20260425T222258
CREATED:20221104T104143Z
LAST-MODIFIED:20230106T150057Z
UID:1256-1674725400-1674748800@hydex.ac.uk
SUMMARY:HyDEX Regional Policy and Innovation Summit
DESCRIPTION:This regional event will focus on four key topics for the region:  \n1) Celebrating hydrogen advances taking place in the region including\, for example\, the recently announced hydrogen bus programme and Centrica’s trial of using hydrogen in power generation  \n2) identifying and developing regional aspirations in relation to hydrogen activity. Key examples include the development of a hydrogen rail demonstrator\, a regional skills programme and a fuel cell manufacturing facility \n 3) Identifying policy issues blocking progress\, such as the use of RTFOs\, COMAH regulations and the use of blended hydrogen in the gas network. The event will include a session to developing a policy engagement plan  \n4) An update on international hydrogen engagement with our key global partners. It is hoped this event will allow us to co-create transformational plans for the region which we intend to launch in parliament soon afterwards. \nEvent Programme  \n(Please note that some timings and speakers may be subject to change) \nChair: Professor Martin Freer\, Director of Energy Research Accelerator (ERA) & Birmingham Energy Institute \n\n9.30 – 10:00 Registration and Networking\n\n\n10.00 – 10.10 Welcome: Professor Martin Freer\, Director of ERA\n10.10 – 10.25 The role of the Midlands in the UK’s hydrogen economy:\nSpeaker from BEIS\n\n\n10.25 – 10.55 Low-cost hydrogen production:\nWill Rowe\, CEO Octopus Hydrogen\nAllan Simpson\, Technical Lead\, NNL\n\n\n10.55 – 11:25 Hydrogen Applications (industry case studies):\nAndy Fuchs\, General Manager Europe and Africa\, Toyota Mobility Foundation\nIan Pratt\, JCB Group Director\, Powertrain\n\n\n11:25 – 11:40 Coffee Break and Networking \n\n\n11:40 – 12:10 Hydrogen Opportunities in the Midlands:\nFaye McAnulla\, Programme Director\, ERA\nSally Brewis\, Head of Regional Development\, Cadent\n\n\n12:00 – 12:40 International Comparisons:\nProf P V Aravind\, University of Groningen\nYounghun Lee\, Ministry for the Environment\, South Korea (visiting scholar University of Birmingham)\n\n\n12:40 – 13:45 Lunch Break and Networking \n\n\n13:45 – 14:00 Introduction to Breakout Sessions: Dr Sharon George PI for HyDEX\n\nBreakout sessions  \n\n14:00 – 15:15 Developing Regional Hydrogen initiatives (Breakout session 1):\nLed by Faye McAnulla\, Programme Director for ERA\n\n\n14:00 – 15:15 Developing a Policy Route Map (Breakout session 2):\nLed by Chris Sims (Uni of Nottingham) and Jude Asibor (Cranfield University)\n\n\n15:15 – 15:30 Feedback from Breakout Sessions\n\n\n15:30 – 15:45 Closing Remarks: Professor Martin Freer\n\n\n15:45: FINISH
URL:https://hydex.ac.uk/event/hydex-regional-policy-and-innovation-summit/
LOCATION:Toyota Motor Manufacturing Plant\, Burnaston\, Derby\, Derbyshire\, DE1 9TA\,\, United Kingdom
CATEGORIES:Summit
ATTACH;FMTTYPE=image/png:https://hydex.ac.uk/wp-content/uploads/2022/11/hydrogen.png
END:VEVENT
END:VCALENDAR