BEGIN:VCALENDAR
VERSION:2.0
PRODID:-//HyDEX - ECPv6.15.20//NONSGML v1.0//EN
CALSCALE:GREGORIAN
METHOD:PUBLISH
X-ORIGINAL-URL:https://hydex.ac.uk
X-WR-CALDESC:Events for HyDEX
REFRESH-INTERVAL;VALUE=DURATION:PT1H
X-Robots-Tag:noindex
X-PUBLISHED-TTL:PT1H
BEGIN:VTIMEZONE
TZID:Europe/London
BEGIN:DAYLIGHT
TZOFFSETFROM:+0000
TZOFFSETTO:+0100
TZNAME:BST
DTSTART:20230326T010000
END:DAYLIGHT
BEGIN:STANDARD
TZOFFSETFROM:+0100
TZOFFSETTO:+0000
TZNAME:GMT
DTSTART:20231029T010000
END:STANDARD
BEGIN:DAYLIGHT
TZOFFSETFROM:+0000
TZOFFSETTO:+0100
TZNAME:BST
DTSTART:20240331T010000
END:DAYLIGHT
BEGIN:STANDARD
TZOFFSETFROM:+0100
TZOFFSETTO:+0000
TZNAME:GMT
DTSTART:20241027T010000
END:STANDARD
BEGIN:DAYLIGHT
TZOFFSETFROM:+0000
TZOFFSETTO:+0100
TZNAME:BST
DTSTART:20250330T010000
END:DAYLIGHT
BEGIN:STANDARD
TZOFFSETFROM:+0100
TZOFFSETTO:+0000
TZNAME:GMT
DTSTART:20251026T010000
END:STANDARD
END:VTIMEZONE
BEGIN:VEVENT
DTSTART;VALUE=DATE:20240704
DTEND;VALUE=DATE:20240705
DTSTAMP:20260424T043002
CREATED:20240531T140511Z
LAST-MODIFIED:20240531T140621Z
UID:2906-1720051200-1720137599@hydex.ac.uk
SUMMARY:Hydrogen Researcher Festival - Thurs 4th July\, Loughborough University
DESCRIPTION:Celebrating the achievements of hydrogen researchers! \nThis FREE event will be a vibrant gathering that celebrates advancements\, innovations\, and collaborations in the field of hydrogen research and technology. Join us for a day filled with insightful presentations\, interactive exhibits\, and engaging discussions. \nThe event is for undergraduates\, postgraduates and other university staff who have an interest in hydrogen. In addition\, anyone from industry or the public sector who wants to engage with hydrogen researchers is also welcome to attend. \nRegistrations are now open!\nVisit the website for more information: https://hydex.ac.uk/hydrogen-researcher-festival/ \nHydrogen Poster Competition\nAre you a researcher exploring the dynamic world of hydrogen technology and its applications? The Hydrogen Researcher Festival on Thursday 4th July invites you to enter our hydrogen poster competition. The theme for the competition is hydrogen and the hydrogen economy. We would like poster submissions which explore various aspects of hydrogen research\, innovation\, and applications. \nThe competition is open to all UK researchers (doctoral and postdocs) and is a great opportunity to showcase your innovative ideas\, groundbreaking research\, and visionary projects on the versatile potential of hydrogen.\n1st prize – £250 | 2nd prize – £150 | 3rd prize – £50 \nIt’s FREE to take part – visit the website for more information: https://hydex.ac.uk/hydrogen-poster-competition/
URL:https://hydex.ac.uk/event/hydrogen-researcher-festival-thurs-4th-july-loughborough-university/
LOCATION:Loughborough University\, Loughborough University\, Loughborough\, Leicestershire\, LE11 3TU
ATTACH;FMTTYPE=image/png:https://hydex.ac.uk/wp-content/uploads/2024/05/Hydrogen-festival-logo.png
END:VEVENT
END:VCALENDAR