BEGIN:VCALENDAR
VERSION:2.0
PRODID:-//HyDEX - ECPv6.15.20//NONSGML v1.0//EN
CALSCALE:GREGORIAN
METHOD:PUBLISH
X-WR-CALNAME:HyDEX
X-ORIGINAL-URL:https://hydex.ac.uk
X-WR-CALDESC:Events for HyDEX
REFRESH-INTERVAL;VALUE=DURATION:PT1H
X-Robots-Tag:noindex
X-PUBLISHED-TTL:PT1H
BEGIN:VTIMEZONE
TZID:Europe/Brussels
BEGIN:DAYLIGHT
TZOFFSETFROM:+0100
TZOFFSETTO:+0200
TZNAME:CEST
DTSTART:20230326T010000
END:DAYLIGHT
BEGIN:STANDARD
TZOFFSETFROM:+0200
TZOFFSETTO:+0100
TZNAME:CET
DTSTART:20231029T010000
END:STANDARD
BEGIN:DAYLIGHT
TZOFFSETFROM:+0100
TZOFFSETTO:+0200
TZNAME:CEST
DTSTART:20240331T010000
END:DAYLIGHT
BEGIN:STANDARD
TZOFFSETFROM:+0200
TZOFFSETTO:+0100
TZNAME:CET
DTSTART:20241027T010000
END:STANDARD
BEGIN:DAYLIGHT
TZOFFSETFROM:+0100
TZOFFSETTO:+0200
TZNAME:CEST
DTSTART:20250330T010000
END:DAYLIGHT
BEGIN:STANDARD
TZOFFSETFROM:+0200
TZOFFSETTO:+0100
TZNAME:CET
DTSTART:20251026T010000
END:STANDARD
END:VTIMEZONE
BEGIN:VEVENT
DTSTART;TZID=Europe/Brussels:20241112T120000
DTEND;TZID=Europe/Brussels:20241112T120000
DTSTAMP:20260424T120724
CREATED:20241017T101346Z
LAST-MODIFIED:20241017T101346Z
UID:4146-1731412800-1731412800@hydex.ac.uk
SUMMARY:Hydrogen: The case for UK-EU Collaboration\, London
DESCRIPTION:The UK and the EU both see hydrogen as essential to achieving net zero and both have extensive and well-funded policies to support it. Yet progress is far too slow. \nGreen hydrogen represents less than 1% of total production and still costs 6-14 times more than grey hydrogen. Only a tiny fraction of green or blue hydrogen projects have reached final investment decision. \nIn many proposed applications\, hydrogen is being eclipsed by electrification. But in other areas\, hydrogen and its derivatives still look like the best or possibly only option: fertilizer\, shipping\, jet aviation and long-duration grid balancing. \nWhat’s more\, regardless of the higher production costs of cleaner forms of hydrogen\, its system benefits in terms of greater energy security and lower overall energy system costs still look potentially enormous. \nIt is therefore time to take stock. Both the UK and the EU need to ask what their policy is getting wrong and whether they could make faster progress\, and at lower cost\, by working together. \nIn 2024\, HyDEX (Hydrogen Development and Knowledge Exchange) and ERA (Energy Research Accelerator) held a series of summits in Brussels and London where academics\, policymakers and industrialists examined the issue of hydrogen collaboration between the UK and EU. \nAt this FREE event at the Institution of Mechanical Engineers in London\, ERA and HyDEX will be launching their ‘UK-EU Hydrogen Policy Report’ with a host of speakers from industry and the public sector\, outlining the case for UK-EU collaboration\, with specific recommendations to develop hydrogen infrastructure\, markets and policy.
URL:https://hydex.ac.uk/event/hydrogen-the-case-for-uk-eu-collaboration-london/
LOCATION:Institution of Mechanical Engineers (IMechE)\, 1 Birdcage Walk\,\, London\, SW1H 9JJ
CATEGORIES:Engagement Events
ATTACH;FMTTYPE=image/jpeg:https://hydex.ac.uk/wp-content/uploads/2024/10/Policy-event-image.jpg
END:VEVENT
END:VCALENDAR