BEGIN:VCALENDAR
VERSION:2.0
PRODID:-//HyDEX - ECPv6.15.20//NONSGML v1.0//EN
CALSCALE:GREGORIAN
METHOD:PUBLISH
X-WR-CALNAME:HyDEX
X-ORIGINAL-URL:https://hydex.ac.uk
X-WR-CALDESC:Events for HyDEX
REFRESH-INTERVAL;VALUE=DURATION:PT1H
X-Robots-Tag:noindex
X-PUBLISHED-TTL:PT1H
BEGIN:VTIMEZONE
TZID:Europe/London
BEGIN:DAYLIGHT
TZOFFSETFROM:+0000
TZOFFSETTO:+0100
TZNAME:BST
DTSTART:20220327T010000
END:DAYLIGHT
BEGIN:STANDARD
TZOFFSETFROM:+0100
TZOFFSETTO:+0000
TZNAME:GMT
DTSTART:20221030T010000
END:STANDARD
BEGIN:DAYLIGHT
TZOFFSETFROM:+0000
TZOFFSETTO:+0100
TZNAME:BST
DTSTART:20230326T010000
END:DAYLIGHT
BEGIN:STANDARD
TZOFFSETFROM:+0100
TZOFFSETTO:+0000
TZNAME:GMT
DTSTART:20231029T010000
END:STANDARD
BEGIN:DAYLIGHT
TZOFFSETFROM:+0000
TZOFFSETTO:+0100
TZNAME:BST
DTSTART:20240331T010000
END:DAYLIGHT
BEGIN:STANDARD
TZOFFSETFROM:+0100
TZOFFSETTO:+0000
TZNAME:GMT
DTSTART:20241027T010000
END:STANDARD
END:VTIMEZONE
BEGIN:VEVENT
DTSTART;TZID=Europe/London:20230209T110000
DTEND;TZID=Europe/London:20230209T130000
DTSTAMP:20260426T031932
CREATED:20221214T160223Z
LAST-MODIFIED:20221214T162441Z
UID:1307-1675940400-1675947600@hydex.ac.uk
SUMMARY:Skills for the Green Economy - A Green Innovation event
DESCRIPTION:At this in person event\, we will be exploring the kind of skills that are needed by businesses for the new Green Economy and we need your help! The Federation of Small Businesses will be discussing their Skills Improvement Plan\, and this is an opportunity for you to input into a plan that will be presented to government.
URL:https://hydex.ac.uk/event/skills-for-the-green-economy-a-green-innovation-event/
LOCATION:The Museum of Making\, The Museum of Making\, Silk Mill Lane\, Derby DE1 3AF\, Derby\, DE1 3AF\, United Kingdom
CATEGORIES:Engagement Events
ATTACH;FMTTYPE=image/png:https://hydex.ac.uk/wp-content/uploads/2022/12/skills.png
ORGANIZER;CN="ERA":MAILTO:https://www.era.ac.uk/
END:VEVENT
END:VCALENDAR