BEGIN:VCALENDAR
VERSION:2.0
PRODID:-//HyDEX - ECPv6.15.20//NONSGML v1.0//EN
CALSCALE:GREGORIAN
METHOD:PUBLISH
X-WR-CALNAME:HyDEX
X-ORIGINAL-URL:https://hydex.ac.uk
X-WR-CALDESC:Events for HyDEX
REFRESH-INTERVAL;VALUE=DURATION:PT1H
X-Robots-Tag:noindex
X-PUBLISHED-TTL:PT1H
BEGIN:VTIMEZONE
TZID:Europe/London
BEGIN:DAYLIGHT
TZOFFSETFROM:+0000
TZOFFSETTO:+0100
TZNAME:BST
DTSTART:20230326T010000
END:DAYLIGHT
BEGIN:STANDARD
TZOFFSETFROM:+0100
TZOFFSETTO:+0000
TZNAME:GMT
DTSTART:20231029T010000
END:STANDARD
BEGIN:DAYLIGHT
TZOFFSETFROM:+0000
TZOFFSETTO:+0100
TZNAME:BST
DTSTART:20240331T010000
END:DAYLIGHT
BEGIN:STANDARD
TZOFFSETFROM:+0100
TZOFFSETTO:+0000
TZNAME:GMT
DTSTART:20241027T010000
END:STANDARD
BEGIN:DAYLIGHT
TZOFFSETFROM:+0000
TZOFFSETTO:+0100
TZNAME:BST
DTSTART:20250330T010000
END:DAYLIGHT
BEGIN:STANDARD
TZOFFSETFROM:+0100
TZOFFSETTO:+0000
TZNAME:GMT
DTSTART:20251026T010000
END:STANDARD
END:VTIMEZONE
BEGIN:VTIMEZONE
TZID:Europe/Brussels
BEGIN:DAYLIGHT
TZOFFSETFROM:+0100
TZOFFSETTO:+0200
TZNAME:CEST
DTSTART:20230326T010000
END:DAYLIGHT
BEGIN:STANDARD
TZOFFSETFROM:+0200
TZOFFSETTO:+0100
TZNAME:CET
DTSTART:20231029T010000
END:STANDARD
BEGIN:DAYLIGHT
TZOFFSETFROM:+0100
TZOFFSETTO:+0200
TZNAME:CEST
DTSTART:20240331T010000
END:DAYLIGHT
BEGIN:STANDARD
TZOFFSETFROM:+0200
TZOFFSETTO:+0100
TZNAME:CET
DTSTART:20241027T010000
END:STANDARD
BEGIN:DAYLIGHT
TZOFFSETFROM:+0100
TZOFFSETTO:+0200
TZNAME:CEST
DTSTART:20250330T010000
END:DAYLIGHT
BEGIN:STANDARD
TZOFFSETFROM:+0200
TZOFFSETTO:+0100
TZNAME:CET
DTSTART:20251026T010000
END:STANDARD
END:VTIMEZONE
BEGIN:VEVENT
DTSTART;TZID=Europe/London:20241107T093000
DTEND;TZID=Europe/London:20241107T160000
DTSTAMP:20260424T102153
CREATED:20240612T114305Z
LAST-MODIFIED:20241127T093018Z
UID:3726-1730971800-1730995200@hydex.ac.uk
SUMMARY:HyDEX Celebration Event
DESCRIPTION:On Thursday 7th November\, HyDEX held an event at the Derby Museum of Making\, to celebrate the achievements of the HyDEX programme. \nHyDEX has been running from January 2022 following funding from Research England for a consortium of seven the Midlands Innovation universities\, led by Keele University. \nThe aim of the HyDEX programme has been to help to kickstart the development of the hydrogen economy in the Midlands by bringing together partners in industry\, local government\, academia and the public sector with an interest in hydrogen. \nA new energy revolution\nAt the event in Derby\, which was attended by over 200 people from the region and beyond\, Professor Mark Ormerod from Keele University said it was fitting that the event was taking place in a building that was at the heart of the first industrial revolution when it was the Derby Silk Mill – the first fully mechanised factory in the world. Professor Ormerod talked about how we are now entering the energy revolution\, and that the HyDEX programme has played a vital part in raising the profile of the potential of hydrogen in the net-zero future in the Midlands and beyond. \nProfessor Martin Freer\, the Academic Director of HyDEX\, and now Chief Executive of the Faraday Institution talked about HyDEX’s achievements\, including how it has pushed forward new technologies through creating demonstration projects at university partners which are looking at new ways of producing and storing hydrogen. \nMartin explained that HyDEX has also introduced new hydrogen skills and training programmes and has been undertaking work to map out the skills needed by industry for the future of hydrogen. Martin discussed some of the international links that HyDEX has made in South Korea\, Singapore and China in order to exchange ideas about best practice. \nInfluencing energy policy\nThe subject of hydrogen policy was also discussed\, and Martin explained how HyDEX is helping to influence policy through work it has done looking at the needs of industrial sectors such as aviation\, road transport\, agriculture\, construction and farming. \nHyDEX has also launched a report looking at the potential of Hydrogen Rail in the Midlands\, and later this month will be launching its study into the case of UK-EU Collaboration in Hydrogen. \nThere were also presentations from innovators who have been supported by HyDEX\, including Green Coordinate\, Nium and Microcabs\, who explained how HyDEX has supported them in technology development. \nDeveloping skills\nFollowing this was a session on skills\, where interns on the HyDEX micro-internship programme\, including Clinton Liu\, Numan Ahmed\, Chloe Tindale and Shakana Oniyah discussed how they had benefitted from industrial work experience trough the HyDEX programme. This was followed by a panel discussion by industry representatives and academic specialists who gave their thoughts on what more was needed to develop the skills needed in hydrogen. \nDuring the lunchbreak delegates had the opportunity to visit the stands of partners of the HyDEX programme in the exhibition area\, which included Hi-ACT\, University of British Geological Survey\, Nottingham\, East Midlands Hydrogen\, Midlands Innovation and several other businesses involved in hydrogen in the region. \nThe future of hydrogen in the Midlands\nIn the afternoon\, Sally Brewis from Cadent provided here thoughts on the future of hydrogen in the region. She explained how the Midlands was a hydrogen innovation centre with huge expertise in universities and businesses in the region\, both large and small. Sally also discussed Caden’s plans for pipeline infrastructure which could connect the supply with the demand by  industry for hydrogen\, creating a hydrogen valley in the region. She also explained how East Midlands Hydrogen is working on EmStor to identify hydrogen storage in the region such as some of the depleted oil and gas fields in the Midlands. \nThe session finished with a panel discussion chaired by Sarah Windrum of Horiba-Mira and featuring Matt Barney of GeoPura\, Kelly Manders of East Midlands Hydrogen and Professor Martin Freer\, who gave their thoughts about the strengths\, opportunities and challenges facing the Midlands in the hydrogen sector. \nKeep the momentum going\nProfessor Martin Freer said: “HyDEX has achieved a great deal. It has shown that there is huge interest and demand for hydrogen in the Midlands\, and that there is a will here to develop a hydrogen economy. \n“It is important now that we keep this momentum and this network going. We need to continue to make the government aware of the important role we see for hydrogen in the Midlands\, and to push for the policies\, infrastructure and funding that are needed to ensure that hydrogen’s great potential is realised’ \nDownload presentation slides \nDownload business contacts showreel \nPhotographs from the event \n\n		\n		\n			\n				\n			\n			\n				\n			\n			\n				\n			\n			\n				\n			\n			\n				\n			\n			\n				\n			\n			\n				\n			\n			\n				\n			\n			\n				\n			\n			\n				\n			\n			\n				\n			\n			\n				\n			\n			\n				\n			\n			\n				\n			\n			\n				\n			\n		\n\n 
URL:https://hydex.ac.uk/event/hydex-celebration-event/
LOCATION:The Museum of Making\, The Museum of Making\, Silk Mill Lane\, Derby DE1 3AF\, Derby\, DE1 3AF\, United Kingdom
CATEGORIES:Engagement Events
ATTACH;FMTTYPE=image/jpeg:https://hydex.ac.uk/wp-content/uploads/2024/11/celebration-1.jpg
END:VEVENT
BEGIN:VEVENT
DTSTART;TZID=Europe/Brussels:20241112T120000
DTEND;TZID=Europe/Brussels:20241112T120000
DTSTAMP:20260424T102153
CREATED:20241017T101346Z
LAST-MODIFIED:20241017T101346Z
UID:4146-1731412800-1731412800@hydex.ac.uk
SUMMARY:Hydrogen: The case for UK-EU Collaboration\, London
DESCRIPTION:The UK and the EU both see hydrogen as essential to achieving net zero and both have extensive and well-funded policies to support it. Yet progress is far too slow. \nGreen hydrogen represents less than 1% of total production and still costs 6-14 times more than grey hydrogen. Only a tiny fraction of green or blue hydrogen projects have reached final investment decision. \nIn many proposed applications\, hydrogen is being eclipsed by electrification. But in other areas\, hydrogen and its derivatives still look like the best or possibly only option: fertilizer\, shipping\, jet aviation and long-duration grid balancing. \nWhat’s more\, regardless of the higher production costs of cleaner forms of hydrogen\, its system benefits in terms of greater energy security and lower overall energy system costs still look potentially enormous. \nIt is therefore time to take stock. Both the UK and the EU need to ask what their policy is getting wrong and whether they could make faster progress\, and at lower cost\, by working together. \nIn 2024\, HyDEX (Hydrogen Development and Knowledge Exchange) and ERA (Energy Research Accelerator) held a series of summits in Brussels and London where academics\, policymakers and industrialists examined the issue of hydrogen collaboration between the UK and EU. \nAt this FREE event at the Institution of Mechanical Engineers in London\, ERA and HyDEX will be launching their ‘UK-EU Hydrogen Policy Report’ with a host of speakers from industry and the public sector\, outlining the case for UK-EU collaboration\, with specific recommendations to develop hydrogen infrastructure\, markets and policy.
URL:https://hydex.ac.uk/event/hydrogen-the-case-for-uk-eu-collaboration-london/
LOCATION:Institution of Mechanical Engineers (IMechE)\, 1 Birdcage Walk\,\, London\, SW1H 9JJ
CATEGORIES:Engagement Events
ATTACH;FMTTYPE=image/jpeg:https://hydex.ac.uk/wp-content/uploads/2024/10/Policy-event-image.jpg
END:VEVENT
BEGIN:VEVENT
DTSTART;TZID=Europe/Brussels:20241120T133000
DTEND;TZID=Europe/Brussels:20241120T160000
DTSTAMP:20260424T102153
CREATED:20241017T101058Z
LAST-MODIFIED:20241113T161711Z
UID:4142-1732109400-1732118400@hydex.ac.uk
SUMMARY:Hydrogen: The case for UK-EU Collaboration\, Brussels
DESCRIPTION:The UK and the EU both see hydrogen as essential to achieving net zero and both have extensive and well-funded policies to support it. Yet progress is far too slow. \nGreen hydrogen represents less than 1% of total production and still costs 6-14 times more than grey hydrogen. Only a tiny fraction of green or blue hydrogen projects have reached final investment decision. \nIn many proposed applications\, hydrogen is being eclipsed by electrification. But in other areas\, hydrogen and its derivatives still look like the best or possibly only option: fertilizer\, shipping\, jet aviation and long-duration grid balancing. \nWhat’s more\, regardless of the higher production costs of cleaner forms of hydrogen\, its system benefits in terms of greater energy security and lower overall energy system costs still look potentially enormous. \nIt is therefore time to take stock. Both the UK and the EU need to ask what their policy is getting wrong and whether they could make faster progress\, and at lower cost\, by working together. \nIn 2024\, HyDEX (Hydrogen Development and Knowledge Exchange) and ERA (Energy Research Accelerator) held a series of summits in Brussels and London where academics\, policymakers and industrialists examined the issue of hydrogen collaboration between the UK and EU. \nAt this FREE event at the Sofitel Hotel in Brussels\, ERA and HyDEX will be launching their ‘UK-EU Hydrogen Policy Report’ with a host of speakers from industry and the public sector\, outlining the case for UK-EU collaboration\, with specific recommendations to develop hydrogen infrastructure\, markets and policy. \nSpeakers confirmed: \n\nMartin Freer\, Hydex/ERA – presenting the report\nMarije Vos\, Project Secretary\, HEAVENN hydrogen valley\, Netherlands\nMatthew Barney\, Chief Hydrogen Business Officer\, GeoPura\, UK\nMarije Vos\, Project Manager\, HEAVENN Hydrogen Valley\, NLS\n\n\nModerator 1\, Mark Watts\nNatasha Sogol\, Head of Energy\, UK Embassy to the European Union\nNicole Glanemann\, Energy Attache at German Embassy to the European Union\nRobert Francia\, Regulatory Affairs\, the European Network of Transmission System Operations for Gas (ENTSOG)
URL:https://hydex.ac.uk/event/hydrogen-the-case-for-uk-eu-collaboration-brussels/
LOCATION:Sofitel Brussels Europe\, 1 Place Jourdan 1040\, Brussels\, Belgium
CATEGORIES:Engagement Events
ATTACH;FMTTYPE=image/jpeg:https://hydex.ac.uk/wp-content/uploads/2024/10/Policy-event-image.jpg
END:VEVENT
END:VCALENDAR